BEGIN:VCALENDAR
VERSION:2.0
PRODID:-//wp-events-plugin.com//7.2.3.1//EN
TZID:America/Los_Angeles
X-WR-TIMEZONE:America/Los_Angeles
BEGIN:VEVENT
UID:989@johannasings.com
DTSTART:20191022T010000Z
DTEND:20191022T010000Z
DTSTAMP:20190718T220301Z
URL:https://johannasings.com/events/live-music-yoga-in-canton-oh/
SUMMARY:Live Music Yoga in Canton\, OH
DESCRIPTION:Johanna will provide a luxurious background of soothing songs d
 uring this yoga class . . . Experience the shared heartbeat of sacred song
  while moving together in harmony.\n\n$22 in advance\, $25 at the door\n\n
 https://www.facebook.com/events/3475960619096836/
ATTACH;FMTTYPE=image/jpeg:https://i0.wp.com/johannasings.com/wp-content/up
 loads/2018/09/lullaby-yoga-copy.jpg?fit=1440%2C1080&ssl=1
CATEGORIES:Live Music Yoga
LOCATION:Yoga Central\, 4626 Cleveland Ave NW\, Canton\, OH\, United States
GEO:40.8493546;-81.39200570000003
X-APPLE-STRUCTURED-LOCATION;VALUE=URI;X-ADDRESS=4626 Cleveland Ave NW\, Can
 ton\, OH\, United States;X-APPLE-RADIUS=100;X-TITLE=Yoga Central:geo:40.84
 93546,-81.39200570000003
END:VEVENT
END:VCALENDAR