BEGIN:VCALENDAR
VERSION:2.0
PRODID:-//wp-events-plugin.com//7.2.3.1//EN
TZID:America/Los_Angeles
X-WR-TIMEZONE:America/Los_Angeles
BEGIN:VEVENT
UID:618@johannasings.com
DTSTART:20170329T003000Z
DTEND:20170329T014500Z
DTSTAMP:20170314T213451Z
URL:https://johannasings.com/events/live-music-yoga-boise/
SUMMARY:Live Music Yoga with Marisa in Boise
DESCRIPTION:\n\n\n\n\nMarisa will gently guide participants through a serie
 s of deeply relaxing poses while Johanna sings. The music—a soothing ble
 nd of original and traditional pieces from a variety of global cultures—
 facilitates the healing process by providing a luxurious\, peaceful space 
 for the mind to rest while the body relaxes\, rebalances\, and restores it
 self.\n\n\n\n\n\n$15 in advance\, $20 at the door\n\nRegister at info@sage
 yogaboise.com\n\nhttps://www.facebook.com/events/659541670892132/
ATTACH;FMTTYPE=image/jpeg:https://i0.wp.com/johannasings.com/wp-content/up
 loads/2017/02/microsoft-word-johanna-lullaby-workshop-mar-2017.docx.jpg?fi
 t=2400%2C3150&ssl=1
CATEGORIES:Conscious &amp; Devotional Music,Live Music Yoga
LOCATION:Sage Yoga and Wellness\, 242 N 8th St #200\, Boise\, ID\, United S
 tates
GEO:43.6164486;-116.20223350000003
X-APPLE-STRUCTURED-LOCATION;VALUE=URI;X-ADDRESS=242 N 8th St #200\, Boise\,
  ID\, United States;X-APPLE-RADIUS=100;X-TITLE=Sage Yoga and Wellness:geo:
 43.6164486,-116.20223350000003
END:VEVENT
END:VCALENDAR