BEGIN:VCALENDAR
VERSION:2.0
PRODID:-//wp-events-plugin.com//7.2.3.1//EN
TZID:America/Los_Angeles
X-WR-TIMEZONE:America/Los_Angeles
BEGIN:VEVENT
UID:683@johannasings.com
DTSTART;VALUE=DATE:20171119
DTEND;VALUE=DATE:20171120
DTSTAMP:20171118T085047Z
URL:https://johannasings.com/events/kirtan-lullaby-yoga-zen-awakening-fest
 ival-orlando/
SUMMARY:Kirtan and Lullaby Yoga at Zen Awakening Festival\, Orlando
DESCRIPTION:On Sunday (time TBD)\, Johanna will be offering kirtan\, Lullab
 y Yoga\, and possibly a Free Your Voice\, Free Your Soul at Zen Awakening 
 Festival\, Florida's only transformation music and arts festival\, with DJ
 s\, yoga\, 100 acres of nature\, meditation and more.\n\n9am - Lullaby Yog
 a\n\n2:30pm or other afternoon time - Kirtan\n\nCome experience the shared
  heartbeat of kirtan and devotional singing with Johanna Beekman and frien
 ds. Johanna’s unforgettable songs will open your heart and inspire you o
 n your journey long after the last note fades into silence.\n\nIn Lullaby 
 Yoga\, Johanna gently guides participants through a series of deeply relax
 ing poses while singing and playing soothing songs and chants. Her class u
 ses principles from restorative yoga\, therapeutic yoga\, yoga nidra\, and
  subtle body and breath work.The music provides a luxurious\, peaceful spa
 ce for the mind to rest while the body relaxes\, rebalances\, and restores
  itself.\n\nhttps://www.facebook.com/events/1763578040574898\n\nRead about
  the festival here
ATTACH;FMTTYPE=image/jpeg:https://i0.wp.com/johannasings.com/wp-content/up
 loads/2017/04/img_1568.jpg?fit=960%2C720&ssl=1
CATEGORIES:Conscious &amp; Devotional Music,Lullaby Yoga
LOCATION:Zen Fields North\, 4222 North US 301 \, Wildwood\, FL\, 34610\, Un
 ited States
GEO:28.8165945;-82.04919760000001
X-APPLE-STRUCTURED-LOCATION;VALUE=URI;X-ADDRESS=4222 North US 301 \, Wildwo
 od\, FL\, 34610\, United States;X-APPLE-RADIUS=100;X-TITLE=Zen Fields Nort
 h:geo:28.8165945,-82.04919760000001
END:VEVENT
END:VCALENDAR